BEGIN:VCALENDAR
VERSION:2.0
PRODID:-//Morgan County Library - ECPv6.15.17.1//NONSGML v1.0//EN
CALSCALE:GREGORIAN
METHOD:PUBLISH
X-ORIGINAL-URL:https://morgancountylibrary.org
X-WR-CALDESC:Events for Morgan County Library
REFRESH-INTERVAL;VALUE=DURATION:PT1H
X-Robots-Tag:noindex
X-PUBLISHED-TTL:PT1H
BEGIN:VTIMEZONE
TZID:America/Chicago
BEGIN:DAYLIGHT
TZOFFSETFROM:-0600
TZOFFSETTO:-0500
TZNAME:CDT
DTSTART:20250309T080000
END:DAYLIGHT
BEGIN:STANDARD
TZOFFSETFROM:-0500
TZOFFSETTO:-0600
TZNAME:CST
DTSTART:20251102T070000
END:STANDARD
BEGIN:DAYLIGHT
TZOFFSETFROM:-0600
TZOFFSETTO:-0500
TZNAME:CDT
DTSTART:20260308T080000
END:DAYLIGHT
BEGIN:STANDARD
TZOFFSETFROM:-0500
TZOFFSETTO:-0600
TZNAME:CST
DTSTART:20261101T070000
END:STANDARD
BEGIN:DAYLIGHT
TZOFFSETFROM:-0600
TZOFFSETTO:-0500
TZNAME:CDT
DTSTART:20270314T080000
END:DAYLIGHT
BEGIN:STANDARD
TZOFFSETFROM:-0500
TZOFFSETTO:-0600
TZNAME:CST
DTSTART:20271107T070000
END:STANDARD
END:VTIMEZONE
BEGIN:VEVENT
DTSTART;TZID=America/Chicago:20260420T080000
DTEND;TZID=America/Chicago:20260425T130000
DTSTAMP:20260421T100807
CREATED:20260326T165952Z
LAST-MODIFIED:20260326T165952Z
UID:13385-1776672000-1777122000@morgancountylibrary.org
SUMMARY:Celebrate National Library Week
DESCRIPTION:Celebrate all things library during National Library Week! \nJoin us as we highlight the many ways the library connects\, inspires\, and supports our community. Enjoy book drawings\, free snacks\, and plenty of fun all week long! Plus\, anyone who checks out a book during the week can enter for a chance to win a $50 gift card. \nIt’s the perfect time to rediscover everything your library has to offer—come celebrate with us!
URL:https://morgancountylibrary.org/event/celebrate-national-library-week/
LOCATION:Morgan County Library\, 600 N. Hunter St.\, Versailles\, MO\, 65084\, United States
CATEGORIES:Adult,Children,Family,Teen
ATTACH;FMTTYPE=image/png:https://morgancountylibrary.org/wp-content/uploads/2026/03/Event-Featured-Images-38.png
ORGANIZER;CN="Friends of the Morgan County Library":MAILTO:friendsofmorgancountylibrary@gmail.com
END:VEVENT
BEGIN:VEVENT
DTSTART;TZID=America/Chicago:20260422T094500
DTEND;TZID=America/Chicago:20260422T100000
DTSTAMP:20260421T100807
CREATED:20251218T155112Z
LAST-MODIFIED:20260326T152100Z
UID:11741-1776851100-1776852000@morgancountylibrary.org
SUMMARY:Baby Story Time
DESCRIPTION:Designed for babies from birth to age 2 and their caregivers\, Baby Story Time is a cozy\, interactive program that introduces little ones to the joy of reading and language. Each session includes songs\, rhymes\, fingerplays\, and short stories that engage babies’ developing senses and encourage early literacy skills.  This nurturing environment fosters curiosity\, social interaction\, and a love of books from the very beginning—perfect for building early connections with stories\, caregivers\, and other families in the community.
URL:https://morgancountylibrary.org/event/baby-story-time-5/
LOCATION:Morgan County Library\, 600 N. Hunter St.\, Versailles\, MO\, 65084\, United States
CATEGORIES:Children
ATTACH;FMTTYPE=image/png:https://morgancountylibrary.org/wp-content/uploads/2025/12/Event-Featured-Images-23.png
ORGANIZER;CN="Morgan County Library":MAILTO:mocolibrary@hotmail.com
END:VEVENT
BEGIN:VEVENT
DTSTART;TZID=America/Chicago:20260422T100000
DTEND;TZID=America/Chicago:20260422T110000
DTSTAMP:20260421T100808
CREATED:20251218T153622Z
LAST-MODIFIED:20260326T162154Z
UID:11724-1776852000-1776855600@morgancountylibrary.org
SUMMARY:Big & Little Kid Story Time
DESCRIPTION:Join us for a fun\, engaging story time designed for kids ages 0–11! Each session features a mix of stories\, songs\, rhymes\, and interactive activities that spark imagination and encourage a love of reading. Children can participate in hands-on learning\, practice early literacy skills\, and enjoy playful group activities. Families are welcome to join\, making it a perfect opportunity for siblings of all ages to share in the joy of books\, movement\, and creative exploration together.
URL:https://morgancountylibrary.org/event/big-little-kid-story-time-5/
LOCATION:Morgan County Library\, 600 N. Hunter St.\, Versailles\, MO\, 65084\, United States
CATEGORIES:Children
ATTACH;FMTTYPE=image/png:https://morgancountylibrary.org/wp-content/uploads/2025/12/Event-Featured-Images-15.png
ORGANIZER;CN="Morgan County Library":MAILTO:mocolibrary@hotmail.com
END:VEVENT
BEGIN:VEVENT
DTSTART;TZID=America/Chicago:20260425T103000
DTEND;TZID=America/Chicago:20260425T113000
DTSTAMP:20260421T100808
CREATED:20260220T162047Z
LAST-MODIFIED:20260328T161338Z
UID:13076-1777113000-1777116600@morgancountylibrary.org
SUMMARY:Sensory Saturday
DESCRIPTION:Join us for a fun and hands-on Sensory Saturday where kids will create their very own straw pan flute! This activity encourages creativity while exploring sound\, music\, and simple STEM concepts. Participants will design and build their instrument\, then experiment with different tones and melodies. It’s a great way to learn\, play\, and engage the senses in a relaxed\, welcoming environment!
URL:https://morgancountylibrary.org/event/sensory-saturday/
LOCATION:Morgan County Library\, 600 N. Hunter St.\, Versailles\, MO\, 65084\, United States
CATEGORIES:Children
ATTACH;FMTTYPE=image/png:https://morgancountylibrary.org/wp-content/uploads/2026/02/Event-Featured-Images-39.png
ORGANIZER;CN="Morgan County Library":MAILTO:mocolibrary@hotmail.com
END:VEVENT
BEGIN:VEVENT
DTSTART;TZID=America/Chicago:20260429T094500
DTEND;TZID=America/Chicago:20260429T100000
DTSTAMP:20260421T100808
CREATED:20251218T155218Z
LAST-MODIFIED:20260326T162655Z
UID:11743-1777455900-1777456800@morgancountylibrary.org
SUMMARY:Baby Story Time
DESCRIPTION:Designed for babies from birth to age 2 and their caregivers\, Baby Story Time is a cozy\, interactive program that introduces little ones to the joy of reading and language. Each session includes songs\, rhymes\, fingerplays\, and short stories that engage babies’ developing senses and encourage early literacy skills.  This nurturing environment fosters curiosity\, social interaction\, and a love of books from the very beginning—perfect for building early connections with stories\, caregivers\, and other families in the community.
URL:https://morgancountylibrary.org/event/baby-story-time-6/
LOCATION:Morgan County Library\, 600 N. Hunter St.\, Versailles\, MO\, 65084\, United States
CATEGORIES:Children
ATTACH;FMTTYPE=image/png:https://morgancountylibrary.org/wp-content/uploads/2025/12/Event-Featured-Images-23.png
ORGANIZER;CN="Morgan County Library":MAILTO:mocolibrary@hotmail.com
END:VEVENT
BEGIN:VEVENT
DTSTART;TZID=America/Chicago:20260429T100000
DTEND;TZID=America/Chicago:20260429T110000
DTSTAMP:20260421T100808
CREATED:20251218T153716Z
LAST-MODIFIED:20260326T162819Z
UID:11726-1777456800-1777460400@morgancountylibrary.org
SUMMARY:Big & Little Kid Story Time
DESCRIPTION:Join us for a fun\, engaging story time designed for kids ages 0–11! Each session features a mix of stories\, songs\, rhymes\, and interactive activities that spark imagination and encourage a love of reading. Children can participate in hands-on learning\, practice early literacy skills\, and enjoy playful group activities. Families are welcome to join\, making it a perfect opportunity for siblings of all ages to share in the joy of books\, movement\, and creative exploration together.
URL:https://morgancountylibrary.org/event/big-little-kid-story-time-6/
LOCATION:Morgan County Library\, 600 N. Hunter St.\, Versailles\, MO\, 65084\, United States
CATEGORIES:Children
ATTACH;FMTTYPE=image/png:https://morgancountylibrary.org/wp-content/uploads/2025/12/Event-Featured-Images-15.png
ORGANIZER;CN="Morgan County Library":MAILTO:mocolibrary@hotmail.com
END:VEVENT
END:VCALENDAR